BEGIN:VCALENDAR
X-WR-TIMEZONE:Europe/London
X-LOTUS-CHARSET:UTF-8
X-WR-CALNAME:TKAT Calendar
X-WR-CALDESC:TKAT Calendar
VERSION:2.0
PRODID:-//hacksw/handcal//NONSGML v1.0//EN
CALSCALE:GREGORIAN
BEGIN:VTIMEZONE
TZID:Europe/London
X-LIC-LOCATION:Europe/London
BEGIN:DAYLIGHT
TZOFFSETFROM:+0000
TZOFFSETTO:+0100
TZNAME:BST
DTSTART:19700329T010000
RRULE:FREQ=YEARLY;BYDAY=-1SU;BYMONTH=3
END:DAYLIGHT
BEGIN:STANDARD
TZOFFSETFROM:+0100
TZOFFSETTO:+0000
TZNAME:GMT
DTSTART:19701025T020000
RRULE:FREQ=YEARLY;BYDAY=-1SU;BYMONTH=10
END:STANDARD
END:VTIMEZONE
METHOD:PUBLISH
BEGIN:VEVENT
UID:12301776776920
DTSTAMP:20260421T130840Z
SUMMARY:Reducing the 7 to 8 Absence Dip - A Whole School Approach - Guidance for SLT Attendance Leads\, HoY 7 & 8 and wider school staff
LOCATION:TKAT Virtual Online Training Academy, Online Only
DTSTART;VALUE=DATE:20260513
DTEND;VALUE=DATE:20260513
END:VEVENT
END:VCALENDAR